BEGIN:VCALENDAR
VERSION:2.0
PRODID:-//Mooredale Concerts - ECPv6.0.12//NONSGML v1.0//EN
CALSCALE:GREGORIAN
METHOD:PUBLISH
X-WR-CALNAME:Mooredale Concerts
X-ORIGINAL-URL:https://www.mooredaleconcerts.com
X-WR-CALDESC:Events for Mooredale Concerts
REFRESH-INTERVAL;VALUE=DURATION:PT1H
X-Robots-Tag:noindex
X-PUBLISHED-TTL:PT1H
BEGIN:VTIMEZONE
TZID:America/Toronto
BEGIN:DAYLIGHT
TZOFFSETFROM:-0500
TZOFFSETTO:-0400
TZNAME:EDT
DTSTART:20260308T070000
END:DAYLIGHT
BEGIN:STANDARD
TZOFFSETFROM:-0400
TZOFFSETTO:-0500
TZNAME:EST
DTSTART:20261101T060000
END:STANDARD
END:VTIMEZONE
BEGIN:VEVENT
DTSTART;TZID=America/Toronto:20260503T151500
DTEND;TZID=America/Toronto:20260503T170000
DTSTAMP:20260420T112941
CREATED:20250505T010225Z
LAST-MODIFIED:20250520T203127Z
UID:6774-1777821300-1777827600@www.mooredaleconcerts.com
SUMMARY:Kerson Leong\, violin
DESCRIPTION:Winner of the prestigious International Yehudi Menuhin Violin Competition\, Kerson Leong has been described as “not just one of Canada’s greatest violinists but one of the greatest violinists\, period” (Toronto Star). He has performed with Brussels\, Oslo\, Royal Philharmonic and Istanbul\, Singapore\, Toronto\, Wuppertal and Montréal Symphony Orchestras. As a sought-after soloist\, Kerson has appeared at Carnegie and Wigmore Halls\, Auditorium du Louvre\, and National Center for the Performing Arts\, Beijing. He plays the ‘ex Bohrer\, Baumgartner’ Guarneri del Gesu violin courtesy of Canimex Inc. Drummondville. \nHis virtuosic recital includes violin works by Ysaÿe (Sonata No. 3 “Ballade” & Sonata No. 4 in E minor)\, Kreisler’s Recitativo and Scherzo\, and Bach’s Chaconne from Partita No. 2. \n 
URL:https://www.mooredaleconcerts.com/event/may_3_2026_mdc/
LOCATION:Walter Hall\, 80 Queens Park\, Toronto\, Ontario\, M5S 2C5\, Canada
CATEGORIES:Concert Series
ATTACH;FMTTYPE=image/jpeg:https://mooredale.s3.ca-central-1.amazonaws.com/2025/04/22130101/2025KersonL-sepia-scaled.jpeg
END:VEVENT
END:VCALENDAR